BEGIN:VCALENDAR
VERSION:2.0
PRODID:-//Beechwood Estate - ECPv6.13.2.1//NONSGML v1.0//EN
CALSCALE:GREGORIAN
METHOD:PUBLISH
X-WR-CALNAME:Beechwood Estate
X-ORIGINAL-URL:https://www.beechwoodestate.com
X-WR-CALDESC:Events for Beechwood Estate
REFRESH-INTERVAL;VALUE=DURATION:PT1H
X-Robots-Tag:noindex
X-PUBLISHED-TTL:PT1H
BEGIN:VTIMEZONE
TZID:Africa/Lagos
BEGIN:STANDARD
TZOFFSETFROM:+0100
TZOFFSETTO:+0100
TZNAME:WAT
DTSTART:20240101T000000
END:STANDARD
END:VTIMEZONE
BEGIN:VEVENT
DTSTART;TZID=Africa/Lagos:20240629T080000
DTEND;TZID=Africa/Lagos:20240629T100000
DTSTAMP:20260424T133357
CREATED:20240611T105248Z
LAST-MODIFIED:20240611T105248Z
UID:2759-1719648000-1719655200@www.beechwoodestate.com
SUMMARY:BERA Monthly General Meeting
DESCRIPTION:
URL:https://www.beechwoodestate.com/event/bera-monthly-general-meeting/
LOCATION:Beechwood Recreation Centre
CATEGORIES:Meeting
END:VEVENT
END:VCALENDAR