BEGIN:VCALENDAR
VERSION:2.0
PRODID:-//Beechwood Estate - ECPv6.13.2.1//NONSGML v1.0//EN
CALSCALE:GREGORIAN
METHOD:PUBLISH
X-ORIGINAL-URL:https://www.beechwoodestate.com
X-WR-CALDESC:Events for Beechwood Estate
REFRESH-INTERVAL;VALUE=DURATION:PT1H
X-Robots-Tag:noindex
X-PUBLISHED-TTL:PT1H
BEGIN:VTIMEZONE
TZID:Africa/Lagos
BEGIN:STANDARD
TZOFFSETFROM:+0100
TZOFFSETTO:+0100
TZNAME:WAT
DTSTART:20240101T000000
END:STANDARD
END:VTIMEZONE
BEGIN:VTIMEZONE
TZID:UTC
BEGIN:STANDARD
TZOFFSETFROM:+0000
TZOFFSETTO:+0000
TZNAME:UTC
DTSTART:20230101T000000
END:STANDARD
END:VTIMEZONE
BEGIN:VEVENT
DTSTART;TZID=Africa/Lagos:20240602T160000
DTEND;TZID=Africa/Lagos:20240729T090000
DTSTAMP:20260424T120947
CREATED:20240530T105445Z
LAST-MODIFIED:20240530T105448Z
UID:2005-1717344000-1722243600@www.beechwoodestate.com
SUMMARY:BTC Champions League
DESCRIPTION:BTC Champions League \nStart: 4pm\, 2nd June 2024\nEnd: 9am\, 29th June 2024 \nCriteria: Open to all members \nRegistration is free \nAll participants will play against each other i.e a set of 6 games with normal tiebreak 6-6 \nWinner win each match gets 3 points while the opponents gets 1 point \nMost matches will be played on weekends i.e Sat or Sun
URL:https://www.beechwoodestate.com/event/btc-champions-league/
LOCATION:Beechwood Recreation Centre
CATEGORIES:Sports
ATTACH;FMTTYPE=image/jpeg:https://www.beechwoodestate.com/wp-content/uploads/2024/05/BTC-Champions-League.jpeg
END:VEVENT
BEGIN:VEVENT
DTSTART;TZID=UTC:20240406T080000
DTEND;TZID=UTC:20240413T170000
DTSTAMP:20260424T120947
CREATED:20240406T194337Z
LAST-MODIFIED:20240529T012134Z
UID:1234-1712390400-1713027600@www.beechwoodestate.com
SUMMARY:Tennis Clinics/Tournament For Kids & Teenagers
DESCRIPTION:
URL:https://www.beechwoodestate.com/event/tennis-clinics-tournament-for-kids-teenagers/
LOCATION:Beechwood Recreation Centre
CATEGORIES:Sports
ATTACH;FMTTYPE=image/jpeg:https://www.beechwoodestate.com/wp-content/uploads/2024/04/fun1.jpeg
END:VEVENT
BEGIN:VEVENT
DTSTART;VALUE=DATE:20240211
DTEND;VALUE=DATE:20240219
DTSTAMP:20260424T120947
CREATED:20240211T111046Z
LAST-MODIFIED:20240529T012129Z
UID:1719-1707609600-1708300799@www.beechwoodestate.com
SUMMARY:American Doubles Tennis Competition
DESCRIPTION:
URL:https://www.beechwoodestate.com/event/american-doubles-tennis-competition/
LOCATION:Beechwood Recreation Centre
CATEGORIES:Sports
ATTACH;FMTTYPE=image/jpeg:https://www.beechwoodestate.com/wp-content/uploads/2024/05/BERA-SATURDAY-NIGHT-GROOVE-1.jpeg
END:VEVENT
BEGIN:VEVENT
DTSTART;TZID=UTC:20231126T170000
DTEND;TZID=UTC:20231209T100000
DTSTAMP:20260424T120947
CREATED:20231126T200136Z
LAST-MODIFIED:20240529T012049Z
UID:1243-1701018000-1702116000@www.beechwoodestate.com
SUMMARY:Beechwood EOY Tournament
DESCRIPTION:
URL:https://www.beechwoodestate.com/event/beechwood-eoy-tournament/
LOCATION:Beechwood Recreation Centre
CATEGORIES:Sports
ATTACH;FMTTYPE=image/jpeg:https://www.beechwoodestate.com/wp-content/uploads/2024/05/tennis.jpeg
END:VEVENT
END:VCALENDAR